BEGIN:VCALENDAR
VERSION:2.0
METHOD:PUBLISH
X-WR-CALNAME:VFEK |  március 23 2009- március 23 2009
PRODID:-//strange bird labs//Drupal iCal API//EN
BEGIN:VEVENT
DTSTAMP;VALUE=DATE-TIME:20260420T155653Z
DTSTART;VALUE=DATE-TIME:20090317T160000Z
DTEND;VALUE=DATE-TIME:20090410T170000Z
UID:http://portal.vfmk.hu/01112009030602
URL;VALUE=URI:http://portal.vfmk.hu/01112009030602
SUMMARY:Szőke Tibor festőművész kiállítása
DESCRIPTION:<p><span style=\\"font-size\: small\;\\"><span style=\\"font-family\: Verdana\;\\">A J&aacute\;sz-Nagykun-Szolnok Megyei<br />
 Verseghy Ferenc K&ouml\;nyvt&aacute\;r &eacute\;s<br />
 Művelőd&eacute\;si Int&eacute\;zet</span></span><br />
 <span style=\\"font-size\: small\;\\"><span style=\\"font-family\: Verdana\;\\">&eacute\;s a<br />
 D</span></span><span style=\\"font-size\: small\;\\"><span style=\\"font-family\: Verdana\;\\">amjanich M&uacute\;zeum Bar&aacute\;ti K&ouml\;re eln&ouml\;ks&eacute\;ge<br />
 </span></span></p>
 <p class=\\"rtecenter\\"><span style=\\"font-size\: small\;\\"><span style=\\"font-family\: Verdana\;\\">szeretettel megh&iacute\;vja &Ouml\;nt &eacute\;s Bar&aacute\;tait<br />
 </span></span></p>
 <p class=\\"rtecenter\\"><span style=\\"font-size\: medium\;\\"><strong><span style=\\"font-family\: Verdana\;\\">Szőke Tibor</span></strong></span><strong><span style=\\"font-size\: small\;\\"><span style=\\"font-family\: Verdana\;\\"><br />
 festőműv&eacute\;sz<br />
 </span></span></strong></p>
 <p class=\\"rtecenter\\"><strong><span style=\\"font-size\: small\;\\"><span style=\\"font-family\: Verdana\;\\">&quot\;Tal&aacute\;lkoz&aacute\;s a Szőke k&eacute\;pekkel&quot\;</span></span></strong><span style=\\"font-size\: small\;\\"><span style=\\"font-family\: Verdana\;\\"><br />
 c&iacute\;mű ki&aacute\;ll&iacute\;t&aacute\;s&aacute\;nak megnyit&oacute\;j&aacute\;ra<br />
 </span></span></p>
 <p class=\\"rteleft\\"><span style=\\"font-size\: small\;\\"><span style=\\"font-family\: Verdana\;\\">2009. m&aacute\;rcius 17-&eacute\;n (kedden) 17.00 &oacute\;r&aacute\;ra a k&ouml\;nyvt&aacute\;r első emeleti Műv&eacute\;szeti Szalonj&aacute\;ba<br />
 </span></span></p>
 <p><span style=\\"font-size\: small\;\\"><span style=\\"font-family\: Verdana\;\\">K&uuml\;l&ouml\;n&ouml\;s hangulatot &eacute\;s a term&eacute\;szet sz&eacute\;p pillanatait bemutat&oacute\; műv&eacute\;szt m&eacute\;ltatja &eacute\;s megnyit&oacute\; besz&eacute\;det mond <strong>Dr. Ir&aacute\;s M&aacute\;ty&aacute\;s</strong> a <strong>Bar&aacute\;ti K&ouml\;r eln&ouml\;ke</strong>.<br />
 A festőműv&eacute\;sz k&eacute\;peit elrendezte <strong>Hunya Zolt&aacute\;n</strong>.<br />
 A ki&aacute\;ll&iacute\;tott művekből n&eacute\;h&aacute\;ny darab megv&aacute\;s&aacute\;rolhat&oacute\; a helysz&iacute\;nen.<br />
 </span></span></p>
 <p><span style=\\"font-size\: small\;\\"><span style=\\"font-family\: Verdana\;\\">A ki&aacute\;ll&iacute\;t&aacute\;s &aacute\;prilis 21-ig tekinthető meg.<br />
 </span></span></p>
END:VEVENT
END:VCALENDAR
